BEGIN:VCALENDAR
VERSION:2.0
PRODID:-//eventon.com NONSGML v1.0//EN
CALSCALE:GREGORIAN
METHOD:PUBLISH
BEGIN:VEVENT
UID:69e4e6cd54670
DTSTAMP:20260419T142933Z
DTSTART:20261114T060000Z
DTEND:20261114T080000Z
LOCATION:Aila Yoga Houghton 51 Houghton drive The Jacaranda house\,  Johannesburg
SUMMARY:Integration: Honouring the Journey
DESCRIPTION:This 90-minute somatic experience brings together the themes\, 
  growth\,  and inner work explored throughout the year. Through gentle move
 ment\,  expressive dance\,  creative ritual\,  and guided reflection\,  you
 ’ll be supported in integrating what has shifted — allowing it to settl
 e fully in the body. Journaling offers space to acknowledge your journey:[.
 .]\nhttps://ailacollective.co.za/events/integration-honouring-the-journey/
URL:https://ailacollective.co.za/events/integration-honouring-the-journey/
END:VEVENT
END:VCALENDAR