BEGIN:VCALENDAR
VERSION:2.0
PRODID:-//eventon.com NONSGML v1.0//EN
CALSCALE:GREGORIAN
METHOD:PUBLISH
BEGIN:VEVENT
UID:69e4cdca42066
DTSTAMP:20260419T124250Z
DTSTART:20261017T060000Z
DTEND:20261017T060000Z
LOCATION:Aila Yoga Houghton 51 Houghton drive The Jacaranda house\,  Johannesburg
SUMMARY:Rewrite the Inner Narrative
DESCRIPTION:This 90-minute somatic retreat is an invitation to become aware
  of the inner narratives that quietly guide your choices\,  reactions\,  an
 d self-belief. Through intentional movement and breath\,  you’ll learn to
  notice how certain thoughts live in the body — as tension\,  contraction
 \,  or hesitation. As we slow down\,  journaling becomes[..]\nhttps://ailac
 ollective.co.za/events/rewrite-the-inner-narrative/
URL:https://ailacollective.co.za/events/rewrite-the-inner-narrative/
END:VEVENT
END:VCALENDAR