BEGIN:VCALENDAR
VERSION:2.0
PRODID:-//eventon.com NONSGML v1.0//EN
CALSCALE:GREGORIAN
METHOD:PUBLISH
BEGIN:VEVENT
UID:69e4ce26e3eb5
DTSTAMP:20260419T124422Z
DTSTART:20260919T060000Z
DTEND:20260919T080000Z
LOCATION:Aila Yoga Houghton 51 Houghton drive The Jacaranda house\,  Johannesburg
SUMMARY:Spring Within: Planting Seeds of Growth
DESCRIPTION:Spring reminds us that growth is not forced — it is nurtured.
  This 90-minute somatic retreat invites you to move once more through the f
 our inner seasons\,  honouring the natural rhythm of beginning\,  expanding
 \,  resting\,  and renewing. With spring as our guide\,  the focus turns to
  planting seeds — intentions[..]\nhttps://ailacollective.co.za/events/spr
 ing-within-planting-seeds-of-growth/
URL:https://ailacollective.co.za/events/spring-within-planting-seeds-of-growth/
END:VEVENT
END:VCALENDAR