BEGIN:VCALENDAR
VERSION:2.0
PRODID:-//eventon.com NONSGML v1.0//EN
CALSCALE:GREGORIAN
METHOD:PUBLISH
BEGIN:VEVENT
UID:69e4e7085681e
DTSTAMP:20260419T143032Z
DTSTART:20260809T060000Z
DTEND:20260809T080000Z
LOCATION:Aila Yoga Houghton 51 Houghton drive The Jacaranda house\,  Johannesburg
SUMMARY:Play & Pleasure: A Woman’s Celebration
DESCRIPTION:This August\,  we celebrate women — and we celebrate three ye
 ars of Aila. This 90-minute luxury morning retreat is an invitation to retu
 rn to play\,  pleasure\,  and lightness in the body. After months of intros
 pection\,  grounding\,  and growth\,  this experience allows you to soften 
 the edges and remember that joy[..]\nhttps://ailacollective.co.za/events/pl
 ay-pleasure-a-womans-celebration/
URL:https://ailacollective.co.za/events/play-pleasure-a-womans-celebration/
END:VEVENT
END:VCALENDAR