BEGIN:VCALENDAR
VERSION:2.0
PRODID:-//eventon.com NONSGML v1.0//EN
CALSCALE:GREGORIAN
METHOD:PUBLISH
BEGIN:VEVENT
UID:69e4ce2185975
DTSTAMP:20260419T124417Z
DTSTART:20260620T060000Z
DTEND:20260620T080000Z
LOCATION:Aila Yoga Houghton 51 Houghton drive The Jacaranda house\,  Johannesburg
SUMMARY:Inner Youth: Strength That Was Never Lost
DESCRIPTION:Youth is not something you age out of â€” it is something you r
 emember. This 90-minute somatic retreat is an invitation to reconnect with 
 the part of you that still holds vitality\,  courage\,  and quiet strength.
  Through grounding\,  strength-based movement and conscious breath\,  youâ€
 ™ll access a felt sense of inner[..]\nhttps://ailacollective.co.za/events/i
 nner-youth-strength-that-was-never-lost/
URL:https://ailacollective.co.za/events/inner-youth-strength-that-was-never-lost/
END:VEVENT
END:VCALENDAR