BEGIN:VCALENDAR
VERSION:2.0
PRODID:-//eventon.com NONSGML v1.0//EN
CALSCALE:GREGORIAN
METHOD:PUBLISH
BEGIN:VEVENT
UID:69e4e734dff75
DTSTAMP:20260419T143116Z
DTSTART:20260516T060000Z
DTEND:20260516T080000Z
LOCATION:Aila Yoga Houghton 51 Houghton drive The Jacaranda house\,  Johannesburg
SUMMARY:Boundaries: When the Body Says No
DESCRIPTION:Boundaries are not created through thinking — they are create
 d through feeling. This 90-minute somatic retreat invites you to experience
  anger not as something to suppress or fear\,  but as a messenger. Through 
 grounded\,  intentional movement\,  you will learn how to safely access and
  feel anger in the body\,  allowing[..]\nhttps://ailacollective.co.za/event
 s/boundaries-when-the-body-says-no/
URL:https://ailacollective.co.za/events/boundaries-when-the-body-says-no/
END:VEVENT
END:VCALENDAR